BEGIN:VCALENDAR
VERSION:2.0
PRODID:-//Gyobutsuji - ECPv6.15.20//NONSGML v1.0//EN
CALSCALE:GREGORIAN
METHOD:PUBLISH
X-WR-CALNAME:Gyobutsuji
X-ORIGINAL-URL:https://gyobutsuji.org
X-WR-CALDESC:Events for Gyobutsuji
REFRESH-INTERVAL;VALUE=DURATION:PT1H
X-Robots-Tag:noindex
X-PUBLISHED-TTL:PT1H
BEGIN:VTIMEZONE
TZID:America/Chicago
BEGIN:DAYLIGHT
TZOFFSETFROM:-0600
TZOFFSETTO:-0500
TZNAME:CDT
DTSTART:20210314T080000
END:DAYLIGHT
BEGIN:STANDARD
TZOFFSETFROM:-0500
TZOFFSETTO:-0600
TZNAME:CST
DTSTART:20211107T070000
END:STANDARD
BEGIN:DAYLIGHT
TZOFFSETFROM:-0600
TZOFFSETTO:-0500
TZNAME:CDT
DTSTART:20220313T080000
END:DAYLIGHT
BEGIN:STANDARD
TZOFFSETFROM:-0500
TZOFFSETTO:-0600
TZNAME:CST
DTSTART:20221106T070000
END:STANDARD
BEGIN:DAYLIGHT
TZOFFSETFROM:-0600
TZOFFSETTO:-0500
TZNAME:CDT
DTSTART:20230312T080000
END:DAYLIGHT
BEGIN:STANDARD
TZOFFSETFROM:-0500
TZOFFSETTO:-0600
TZNAME:CST
DTSTART:20231105T070000
END:STANDARD
BEGIN:DAYLIGHT
TZOFFSETFROM:-0600
TZOFFSETTO:-0500
TZNAME:CDT
DTSTART:20240310T080000
END:DAYLIGHT
BEGIN:STANDARD
TZOFFSETFROM:-0500
TZOFFSETTO:-0600
TZNAME:CST
DTSTART:20241103T070000
END:STANDARD
BEGIN:DAYLIGHT
TZOFFSETFROM:-0600
TZOFFSETTO:-0500
TZNAME:CDT
DTSTART:20250309T080000
END:DAYLIGHT
BEGIN:STANDARD
TZOFFSETFROM:-0500
TZOFFSETTO:-0600
TZNAME:CST
DTSTART:20251102T070000
END:STANDARD
BEGIN:DAYLIGHT
TZOFFSETFROM:-0600
TZOFFSETTO:-0500
TZNAME:CDT
DTSTART:20260308T080000
END:DAYLIGHT
BEGIN:STANDARD
TZOFFSETFROM:-0500
TZOFFSETTO:-0600
TZNAME:CST
DTSTART:20261101T070000
END:STANDARD
BEGIN:DAYLIGHT
TZOFFSETFROM:-0600
TZOFFSETTO:-0500
TZNAME:CDT
DTSTART:20270314T080000
END:DAYLIGHT
BEGIN:STANDARD
TZOFFSETFROM:-0500
TZOFFSETTO:-0600
TZNAME:CST
DTSTART:20271107T070000
END:STANDARD
END:VTIMEZONE
BEGIN:VEVENT
DTSTART;VALUE=DATE:20260402
DTEND;VALUE=DATE:20260407
DTSTAMP:20260424T103800
CREATED:20251231T193559Z
LAST-MODIFIED:20251231T205117Z
UID:1599-1775088000-1775519999@gyobutsuji.org
SUMMARY:April Sesshin
DESCRIPTION:Daily Sesshin Schedule\n			\n			\n				\n				\n				\n				\n			\n				\n				\n				\n				\n				\n				\n				\n				\n				\n				\n				Morning\n\n3:40AM Wakeup 4:10 zazen 5:00 kinhin 5:10 zazen 6:00 breakfast/cleanup/break 7:10 zazen 8:00 kinhin 8:10 zazen 9:00 kinhin 9:10 zazen 10:00 kinhin 10:10 zazen 11:00 kinhin 11:10 zazen 12:00 lunch/cleanup/break \n			\n			\n				\n				\n				\n				\n				\n				\n				\n				\n				\n				Evening\n\n1:10 zazen 2:00 kinhin 2:10 zazen 3:00 kinhin 3:10 zazen 4:00 kinhin 4:10 zazen 5:00 kinhin 5:10 zazen 6:00 lunch/cleanup/break 7:10 zazen 8:00 kinhin 8:10 zazen 9:00 end of day
URL:https://gyobutsuji.org/event/sesshin-24/
END:VEVENT
BEGIN:VEVENT
DTSTART;VALUE=DATE:20260305
DTEND;VALUE=DATE:20260311
DTSTAMP:20260424T103800
CREATED:20251231T193659Z
LAST-MODIFIED:20251231T205249Z
UID:1594-1772668800-1773187199@gyobutsuji.org
SUMMARY:March Sesshin
DESCRIPTION:Daily Sesshin Schedule\n			\n			\n				\n				\n				\n				\n			\n				\n				\n				\n				\n				\n				\n				\n				\n				\n				\n				Morning\n\n3:40AM Wakeup 4:10 zazen 5:00 kinhin 5:10 zazen 6:00 breakfast/cleanup/break 7:10 zazen 8:00 kinhin 8:10 zazen 9:00 kinhin 9:10 zazen 10:00 kinhin 10:10 zazen 11:00 kinhin 11:10 zazen 12:00 lunch/cleanup/break \n			\n			\n				\n				\n				\n				\n				\n				\n				\n				\n				\n				Evening\n\n1:10 zazen 2:00 kinhin 2:10 zazen 3:00 kinhin 3:10 zazen 4:00 kinhin 4:10 zazen 5:00 kinhin 5:10 zazen 6:00 lunch/cleanup/break 7:10 zazen 8:00 kinhin 8:10 zazen 9:00 end of day
URL:https://gyobutsuji.org/event/sesshin-41/
END:VEVENT
BEGIN:VEVENT
DTSTART;VALUE=DATE:20260108
DTEND;VALUE=DATE:20260114
DTSTAMP:20260424T103800
CREATED:20251231T182938Z
LAST-MODIFIED:20251231T205317Z
UID:1579-1767830400-1768348799@gyobutsuji.org
SUMMARY:January Sesshin
DESCRIPTION:Daily Sesshin Schedule\n			\n			\n				\n				\n				\n				\n			\n				\n				\n				\n				\n				\n				\n				\n				\n				\n				\n				Morning\n\n3:40AM Wakeup 4:10 zazen 5:00 kinhin 5:10 zazen 6:00 breakfast/cleanup/break 7:10 zazen 8:00 kinhin 8:10 zazen 9:00 kinhin 9:10 zazen 10:00 kinhin 10:10 zazen 11:00 kinhin 11:10 zazen 12:00 lunch/cleanup/break \n			\n			\n				\n				\n				\n				\n				\n				\n				\n				\n				\n				Evening\n\n1:10 zazen 2:00 kinhin 2:10 zazen 3:00 kinhin 3:10 zazen 4:00 kinhin 4:10 zazen 5:00 kinhin 5:10 zazen 6:00 lunch/cleanup/break 7:10 zazen 8:00 kinhin 8:10 zazen 9:00 end of day
URL:https://gyobutsuji.org/event/sesshin-23/
END:VEVENT
BEGIN:VEVENT
DTSTART;VALUE=DATE:20251106
DTEND;VALUE=DATE:20251111
DTSTAMP:20260424T103800
CREATED:20231218T182835Z
LAST-MODIFIED:20241227T204658Z
UID:1510-1762387200-1762819199@gyobutsuji.org
SUMMARY:Sesshin
DESCRIPTION:Daily Sesshin Schedule\n			\n			\n				\n				\n				\n				\n			\n				\n				\n				\n				\n				\n				\n				\n				\n				\n				\n				Morning\n\n3:40AM Wakeup 4:10 zazen 5:00 kinhin 5:10 zazen 6:00 breakfast/cleanup/break 7:10 zazen 8:00 kinhin 8:10 zazen 9:00 kinhin 9:10 zazen 10:00 kinhin 10:10 zazen 11:00 kinhin 11:10 zazen 12:00 lunch/cleanup/break \n			\n			\n				\n				\n				\n				\n				\n				\n				\n				\n				\n				Evening\n\n1:10 zazen 2:00 kinhin 2:10 zazen 3:00 kinhin 3:10 zazen 4:00 kinhin 4:10 zazen 5:00 kinhin 5:10 zazen 6:00 lunch/cleanup/break 7:10 zazen 8:00 kinhin 8:10 zazen 9:00 end of day
URL:https://gyobutsuji.org/event/sesshin-33/
END:VEVENT
BEGIN:VEVENT
DTSTART;VALUE=DATE:20251002
DTEND;VALUE=DATE:20251007
DTSTAMP:20260424T103800
CREATED:20231218T222306Z
LAST-MODIFIED:20241227T204552Z
UID:1515-1759363200-1759795199@gyobutsuji.org
SUMMARY:Sesshin
DESCRIPTION:Daily Sesshin Schedule\n			\n			\n				\n				\n				\n				\n			\n				\n				\n				\n				\n				\n				\n				\n				\n				\n				\n				Morning\n\n3:40AM Wakeup 4:10 zazen 5:00 kinhin 5:10 zazen 6:00 breakfast/cleanup/break 7:10 zazen 8:00 kinhin 8:10 zazen 9:00 kinhin 9:10 zazen 10:00 kinhin 10:10 zazen 11:00 kinhin 11:10 zazen 12:00 lunch/cleanup/break \n			\n			\n				\n				\n				\n				\n				\n				\n				\n				\n				\n				Evening\n\n1:10 zazen 2:00 kinhin 2:10 zazen 3:00 kinhin 3:10 zazen 4:00 kinhin 4:10 zazen 5:00 kinhin 5:10 zazen 6:00 lunch/cleanup/break 7:10 zazen 8:00 kinhin 8:10 zazen 9:00 end of day
URL:https://gyobutsuji.org/event/sesshin-34/
END:VEVENT
BEGIN:VEVENT
DTSTART;VALUE=DATE:20250828
DTEND;VALUE=DATE:20250902
DTSTAMP:20260424T103800
CREATED:20231218T222505Z
LAST-MODIFIED:20241227T204338Z
UID:1519-1756339200-1756771199@gyobutsuji.org
SUMMARY:Sesshin
DESCRIPTION:Daily Sesshin Schedule\n			\n			\n				\n				\n				\n				\n			\n				\n				\n				\n				\n				\n				\n				\n				\n				\n				\n				Morning\n\n3:40AM Wakeup 4:10 zazen 5:00 kinhin 5:10 zazen 6:00 breakfast/cleanup/break 7:10 zazen 8:00 kinhin 8:10 zazen 9:00 kinhin 9:10 zazen 10:00 kinhin 10:10 zazen 11:00 kinhin 11:10 zazen 12:00 lunch/cleanup/break \n			\n			\n				\n				\n				\n				\n				\n				\n				\n				\n				\n				Evening\n\n1:10 zazen 2:00 kinhin 2:10 zazen 3:00 kinhin 3:10 zazen 4:00 kinhin 4:10 zazen 5:00 kinhin 5:10 zazen 6:00 lunch/cleanup/break 7:10 zazen 8:00 kinhin 8:10 zazen 9:00 end of day
URL:https://gyobutsuji.org/event/sesshin-35/
END:VEVENT
BEGIN:VEVENT
DTSTART;VALUE=DATE:20250710
DTEND;VALUE=DATE:20250715
DTSTAMP:20260424T103800
CREATED:20231218T222639Z
LAST-MODIFIED:20241227T203500Z
UID:1522-1752105600-1752537599@gyobutsuji.org
SUMMARY:Sesshin
DESCRIPTION:Daily Sesshin Schedule\n			\n			\n				\n				\n				\n				\n			\n				\n				\n				\n				\n				\n				\n				\n				\n				\n				\n				Morning\n\n3:40AM Wakeup 4:10 zazen 5:00 kinhin 5:10 zazen 6:00 breakfast/cleanup/break 7:10 zazen 8:00 kinhin 8:10 zazen 9:00 kinhin 9:10 zazen 10:00 kinhin 10:10 zazen 11:00 kinhin 11:10 zazen 12:00 lunch/cleanup/break \n			\n			\n				\n				\n				\n				\n				\n				\n				\n				\n				\n				Evening\n\n1:10 zazen 2:00 kinhin 2:10 zazen 3:00 kinhin 3:10 zazen 4:00 kinhin 4:10 zazen 5:00 kinhin 5:10 zazen 6:00 lunch/cleanup/break 7:10 zazen 8:00 kinhin 8:10 zazen 9:00 end of day
URL:https://gyobutsuji.org/event/sesshin-36/
END:VEVENT
BEGIN:VEVENT
DTSTART;VALUE=DATE:20250605
DTEND;VALUE=DATE:20250610
DTSTAMP:20260424T103800
CREATED:20231218T222847Z
LAST-MODIFIED:20241227T161936Z
UID:1525-1749081600-1749513599@gyobutsuji.org
SUMMARY:Sesshin
DESCRIPTION:Daily Sesshin Schedule\n			\n			\n				\n				\n				\n				\n			\n				\n				\n				\n				\n				\n				\n				\n				\n				\n				\n				Morning\n\n3:40AM Wakeup 4:10 zazen 5:00 kinhin 5:10 zazen 6:00 breakfast/cleanup/break 7:10 zazen 8:00 kinhin 8:10 zazen 9:00 kinhin 9:10 zazen 10:00 kinhin 10:10 zazen 11:00 kinhin 11:10 zazen 12:00 lunch/cleanup/break \n			\n			\n				\n				\n				\n				\n				\n				\n				\n				\n				\n				Evening\n\n1:10 zazen 2:00 kinhin 2:10 zazen 3:00 kinhin 3:10 zazen 4:00 kinhin 4:10 zazen 5:00 kinhin 5:10 zazen 6:00 lunch/cleanup/break 7:10 zazen 8:00 kinhin 8:10 zazen 9:00 end of day
URL:https://gyobutsuji.org/event/sesshin-37/
END:VEVENT
BEGIN:VEVENT
DTSTART;VALUE=DATE:20250501
DTEND;VALUE=DATE:20250506
DTSTAMP:20260424T103800
CREATED:20231218T224221Z
LAST-MODIFIED:20241227T160745Z
UID:1530-1746057600-1746489599@gyobutsuji.org
SUMMARY:Sesshin
DESCRIPTION:Daily Sesshin Schedule\n			\n			\n				\n				\n				\n				\n			\n				\n				\n				\n				\n				\n				\n				\n				\n				\n				\n				Morning\n\n3:40AM Wakeup 4:10 zazen 5:00 kinhin 5:10 zazen 6:00 breakfast/cleanup/break 7:10 zazen 8:00 kinhin 8:10 zazen 9:00 kinhin 9:10 zazen 10:00 kinhin 10:10 zazen 11:00 kinhin 11:10 zazen 12:00 lunch/cleanup/break \n			\n			\n				\n				\n				\n				\n				\n				\n				\n				\n				\n				Evening\n\n1:10 zazen 2:00 kinhin 2:10 zazen 3:00 kinhin 3:10 zazen 4:00 kinhin 4:10 zazen 5:00 kinhin 5:10 zazen 6:00 lunch/cleanup/break 7:10 zazen 8:00 kinhin 8:10 zazen 9:00 end of day
URL:https://gyobutsuji.org/event/sesshin-38/
END:VEVENT
BEGIN:VEVENT
DTSTART;VALUE=DATE:20250403
DTEND;VALUE=DATE:20250408
DTSTAMP:20260424T103800
CREATED:20231218T224534Z
LAST-MODIFIED:20241227T160624Z
UID:1533-1743638400-1744070399@gyobutsuji.org
SUMMARY:Sesshin
DESCRIPTION:Daily Sesshin Schedule\n			\n			\n				\n				\n				\n				\n			\n				\n				\n				\n				\n				\n				\n				\n				\n				\n				\n				Morning\n\n3:40AM Wakeup 4:10 zazen 5:00 kinhin 5:10 zazen 6:00 breakfast/cleanup/break 7:10 zazen 8:00 kinhin 8:10 zazen 9:00 kinhin 9:10 zazen 10:00 kinhin 10:10 zazen 11:00 kinhin 11:10 zazen 12:00 lunch/cleanup/break \n			\n			\n				\n				\n				\n				\n				\n				\n				\n				\n				\n				Evening\n\n1:10 zazen 2:00 kinhin 2:10 zazen 3:00 kinhin 3:10 zazen 4:00 kinhin 4:10 zazen 5:00 kinhin 5:10 zazen 6:00 lunch/cleanup/break 7:10 zazen 8:00 kinhin 8:10 zazen 9:00 end of day
URL:https://gyobutsuji.org/event/sesshin-39/
END:VEVENT
BEGIN:VEVENT
DTSTART;VALUE=DATE:20250227
DTEND;VALUE=DATE:20250304
DTSTAMP:20260424T103800
CREATED:20231218T225227Z
LAST-MODIFIED:20241227T155336Z
UID:1537-1740614400-1741046399@gyobutsuji.org
SUMMARY:Sesshin
DESCRIPTION:Daily Sesshin Schedule\n			\n			\n				\n				\n				\n				\n			\n				\n				\n				\n				\n				\n				\n				\n				\n				\n				\n				Morning\n\n3:40AM Wakeup 4:10 zazen 5:00 kinhin 5:10 zazen 6:00 breakfast/cleanup/break 7:10 zazen 8:00 kinhin 8:10 zazen 9:00 kinhin 9:10 zazen 10:00 kinhin 10:10 zazen 11:00 kinhin 11:10 zazen 12:00 lunch/cleanup/break \n			\n			\n				\n				\n				\n				\n				\n				\n				\n				\n				\n				Evening\n\n1:10 zazen 2:00 kinhin 2:10 zazen 3:00 kinhin 3:10 zazen 4:00 kinhin 4:10 zazen 5:00 kinhin 5:10 zazen 6:00 lunch/cleanup/break 7:10 zazen 8:00 kinhin 8:10 zazen 9:00 end of day
URL:https://gyobutsuji.org/event/sesshin-40/
END:VEVENT
BEGIN:VEVENT
DTSTART;VALUE=DATE:20250123
DTEND;VALUE=DATE:20250128
DTSTAMP:20260424T103800
CREATED:20231218T225355Z
LAST-MODIFIED:20250114T220218Z
UID:1540-1737590400-1738022399@gyobutsuji.org
SUMMARY:Sesshin
DESCRIPTION:
URL:https://gyobutsuji.org/event/seshin/
END:VEVENT
BEGIN:VEVENT
DTSTART;VALUE=DATE:20231201
DTEND;VALUE=DATE:20231208
DTSTAMP:20260424T103800
CREATED:20221221T170644Z
LAST-MODIFIED:20221221T170646Z
UID:1494-1701388800-1701993599@gyobutsuji.org
SUMMARY:Rohatsu Sesshin
DESCRIPTION:Daily Sesshin Schedule\n			\n			\n				\n				\n				\n				\n			\n				\n				\n				\n				\n				\n				\n				\n				\n				\n				\n				Morning\n\n3:40AM Wakeup 4:10 zazen 5:00 kinhin 5:10 zazen 6:00 breakfast/cleanup/break 7:10 zazen 8:00 kinhin 8:10 zazen 9:00 kinhin 9:10 zazen 10:00 kinhin 10:10 zazen 11:00 kinhin 11:10 zazen 12:00 lunch/cleanup/break \n\n\n\n\n			\n			\n				\n				\n				\n				\n				\n				\n				\n				\n				\n				Evening\n1:10 zazen 2:00 kinhin 2:10 zazen 3:00 kinhin 3:10 zazen 4:00 kinhin 4:10 zazen 5:00 kinhin 5:10 zazen 6:00 lunch/cleanup/break 7:10 zazen 8:00 kinhin 8:10 zazen 9:00 end of day \n			\n			\n				\n				\n				\n				\n				\n				\n				\n				\n				\n				Evening of December 7\n9:00 tea9:10 zazen10:00 kinhin10:10 zazen11:00 kinhin11:10 zazen12:00 end of day
URL:https://gyobutsuji.org/event/rohatsu-sesshin-3/
END:VEVENT
BEGIN:VEVENT
DTSTART;VALUE=DATE:20231102
DTEND;VALUE=DATE:20231107
DTSTAMP:20260424T103800
CREATED:20221221T170500Z
LAST-MODIFIED:20221221T170503Z
UID:1489-1698883200-1699315199@gyobutsuji.org
SUMMARY:Sesshin
DESCRIPTION:Daily Sesshin Schedule\n			\n			\n				\n				\n				\n				\n			\n				\n				\n				\n				\n				\n				\n				\n				\n				\n				\n				Morning\n\n3:40AM Wakeup 4:10 zazen 5:00 kinhin 5:10 zazen 6:00 breakfast/cleanup/break 7:10 zazen 8:00 kinhin 8:10 zazen 9:00 kinhin 9:10 zazen 10:00 kinhin 10:10 zazen 11:00 kinhin 11:10 zazen 12:00 lunch/cleanup/break \n			\n			\n				\n				\n				\n				\n				\n				\n				\n				\n				\n				Evening\n\n1:10 zazen 2:00 kinhin 2:10 zazen 3:00 kinhin 3:10 zazen 4:00 kinhin 4:10 zazen 5:00 kinhin 5:10 zazen 6:00 lunch/cleanup/break 7:10 zazen 8:00 kinhin 8:10 zazen 9:00 end of day
URL:https://gyobutsuji.org/event/sesshin-32/
END:VEVENT
BEGIN:VEVENT
DTSTART;VALUE=DATE:20231005
DTEND;VALUE=DATE:20231010
DTSTAMP:20260424T103800
CREATED:20221221T170138Z
LAST-MODIFIED:20221221T170141Z
UID:1482-1696464000-1696895999@gyobutsuji.org
SUMMARY:Sesshin
DESCRIPTION:Daily Sesshin Schedule\n			\n			\n				\n				\n				\n				\n			\n				\n				\n				\n				\n				\n				\n				\n				\n				\n				\n				Morning\n\n3:40AM Wakeup 4:10 zazen 5:00 kinhin 5:10 zazen 6:00 breakfast/cleanup/break 7:10 zazen 8:00 kinhin 8:10 zazen 9:00 kinhin 9:10 zazen 10:00 kinhin 10:10 zazen 11:00 kinhin 11:10 zazen 12:00 lunch/cleanup/break \n			\n			\n				\n				\n				\n				\n				\n				\n				\n				\n				\n				Evening\n\n1:10 zazen 2:00 kinhin 2:10 zazen 3:00 kinhin 3:10 zazen 4:00 kinhin 4:10 zazen 5:00 kinhin 5:10 zazen 6:00 lunch/cleanup/break 7:10 zazen 8:00 kinhin 8:10 zazen 9:00 end of day
URL:https://gyobutsuji.org/event/sesshin-31/
END:VEVENT
BEGIN:VEVENT
DTSTART;VALUE=DATE:20230831
DTEND;VALUE=DATE:20230905
DTSTAMP:20260424T103800
CREATED:20221221T164711Z
LAST-MODIFIED:20221221T164714Z
UID:1477-1693440000-1693871999@gyobutsuji.org
SUMMARY:Sesshin
DESCRIPTION:Daily Sesshin Schedule\n			\n			\n				\n				\n				\n				\n			\n				\n				\n				\n				\n				\n				\n				\n				\n				\n				\n				Morning\n\n3:40AM Wakeup 4:10 zazen 5:00 kinhin 5:10 zazen 6:00 breakfast/cleanup/break 7:10 zazen 8:00 kinhin 8:10 zazen 9:00 kinhin 9:10 zazen 10:00 kinhin 10:10 zazen 11:00 kinhin 11:10 zazen 12:00 lunch/cleanup/break \n			\n			\n				\n				\n				\n				\n				\n				\n				\n				\n				\n				Evening\n\n1:10 zazen 2:00 kinhin 2:10 zazen 3:00 kinhin 3:10 zazen 4:00 kinhin 4:10 zazen 5:00 kinhin 5:10 zazen 6:00 lunch/cleanup/break 7:10 zazen 8:00 kinhin 8:10 zazen 9:00 end of day
URL:https://gyobutsuji.org/event/sesshin-30/
END:VEVENT
BEGIN:VEVENT
DTSTART;VALUE=DATE:20230713
DTEND;VALUE=DATE:20230718
DTSTAMP:20260424T103800
CREATED:20221221T164338Z
LAST-MODIFIED:20221221T164340Z
UID:1472-1689206400-1689638399@gyobutsuji.org
SUMMARY:Sesshin
DESCRIPTION:Daily Sesshin Schedule\n			\n			\n				\n				\n				\n				\n			\n				\n				\n				\n				\n				\n				\n				\n				\n				\n				\n				Morning\n\n3:40AM Wakeup 4:10 zazen 5:00 kinhin 5:10 zazen 6:00 breakfast/cleanup/break 7:10 zazen 8:00 kinhin 8:10 zazen 9:00 kinhin 9:10 zazen 10:00 kinhin 10:10 zazen 11:00 kinhin 11:10 zazen 12:00 lunch/cleanup/break \n			\n			\n				\n				\n				\n				\n				\n				\n				\n				\n				\n				Evening\n\n1:10 zazen 2:00 kinhin 2:10 zazen 3:00 kinhin 3:10 zazen 4:00 kinhin 4:10 zazen 5:00 kinhin 5:10 zazen 6:00 lunch/cleanup/break 7:10 zazen 8:00 kinhin 8:10 zazen 9:00 end of day
URL:https://gyobutsuji.org/event/sesshin-29/
END:VEVENT
BEGIN:VEVENT
DTSTART;VALUE=DATE:20230608
DTEND;VALUE=DATE:20230613
DTSTAMP:20260424T103800
CREATED:20221221T164024Z
LAST-MODIFIED:20221221T164027Z
UID:1467-1686182400-1686614399@gyobutsuji.org
SUMMARY:Sesshin
DESCRIPTION:Daily Sesshin Schedule\n			\n			\n				\n				\n				\n				\n			\n				\n				\n				\n				\n				\n				\n				\n				\n				\n				\n				Morning\n\n3:40AM Wakeup 4:10 zazen 5:00 kinhin 5:10 zazen 6:00 breakfast/cleanup/break 7:10 zazen 8:00 kinhin 8:10 zazen 9:00 kinhin 9:10 zazen 10:00 kinhin 10:10 zazen 11:00 kinhin 11:10 zazen 12:00 lunch/cleanup/break \n			\n			\n				\n				\n				\n				\n				\n				\n				\n				\n				\n				Evening\n\n1:10 zazen 2:00 kinhin 2:10 zazen 3:00 kinhin 3:10 zazen 4:00 kinhin 4:10 zazen 5:00 kinhin 5:10 zazen 6:00 lunch/cleanup/break 7:10 zazen 8:00 kinhin 8:10 zazen 9:00 end of day
URL:https://gyobutsuji.org/event/sesshin-28/
END:VEVENT
BEGIN:VEVENT
DTSTART;VALUE=DATE:20230504
DTEND;VALUE=DATE:20230509
DTSTAMP:20260424T103800
CREATED:20221221T163651Z
LAST-MODIFIED:20221221T163653Z
UID:1461-1683158400-1683590399@gyobutsuji.org
SUMMARY:Sesshin
DESCRIPTION:Daily Sesshin Schedule\n			\n			\n				\n				\n				\n				\n			\n				\n				\n				\n				\n				\n				\n				\n				\n				\n				\n				Morning\n\n3:40AM Wakeup 4:10 zazen 5:00 kinhin 5:10 zazen 6:00 breakfast/cleanup/break 7:10 zazen 8:00 kinhin 8:10 zazen 9:00 kinhin 9:10 zazen 10:00 kinhin 10:10 zazen 11:00 kinhin 11:10 zazen 12:00 lunch/cleanup/break \n			\n			\n				\n				\n				\n				\n				\n				\n				\n				\n				\n				Evening\n\n1:10 zazen 2:00 kinhin 2:10 zazen 3:00 kinhin 3:10 zazen 4:00 kinhin 4:10 zazen 5:00 kinhin 5:10 zazen 6:00 lunch/cleanup/break 7:10 zazen 8:00 kinhin 8:10 zazen 9:00 end of day
URL:https://gyobutsuji.org/event/sesshin-27/
END:VEVENT
BEGIN:VEVENT
DTSTART;VALUE=DATE:20230330
DTEND;VALUE=DATE:20230404
DTSTAMP:20260424T103800
CREATED:20221221T163300Z
LAST-MODIFIED:20221221T163303Z
UID:1456-1680134400-1680566399@gyobutsuji.org
SUMMARY:Sesshin
DESCRIPTION:Daily Sesshin Schedule\n			\n			\n				\n				\n				\n				\n			\n				\n				\n				\n				\n				\n				\n				\n				\n				\n				\n				Morning\n\n3:40AM Wakeup 4:10 zazen 5:00 kinhin 5:10 zazen 6:00 breakfast/cleanup/break 7:10 zazen 8:00 kinhin 8:10 zazen 9:00 kinhin 9:10 zazen 10:00 kinhin 10:10 zazen 11:00 kinhin 11:10 zazen 12:00 lunch/cleanup/break \n			\n			\n				\n				\n				\n				\n				\n				\n				\n				\n				\n				Evening\n\n1:10 zazen 2:00 kinhin 2:10 zazen 3:00 kinhin 3:10 zazen 4:00 kinhin 4:10 zazen 5:00 kinhin 5:10 zazen 6:00 lunch/cleanup/break 7:10 zazen 8:00 kinhin 8:10 zazen 9:00 end of day
URL:https://gyobutsuji.org/event/sesshin-26/
END:VEVENT
BEGIN:VEVENT
DTSTART;VALUE=DATE:20230303
DTEND;VALUE=DATE:20230308
DTSTAMP:20260424T103800
CREATED:20221221T163001Z
LAST-MODIFIED:20221221T163004Z
UID:1451-1677801600-1678233599@gyobutsuji.org
SUMMARY:Sesshin
DESCRIPTION:Daily Sesshin Schedule\n			\n			\n				\n				\n				\n				\n			\n				\n				\n				\n				\n				\n				\n				\n				\n				\n				\n				Morning\n\n3:40AM Wakeup 4:10 zazen 5:00 kinhin 5:10 zazen 6:00 breakfast/cleanup/break 7:10 zazen 8:00 kinhin 8:10 zazen 9:00 kinhin 9:10 zazen 10:00 kinhin 10:10 zazen 11:00 kinhin 11:10 zazen 12:00 lunch/cleanup/break \n			\n			\n				\n				\n				\n				\n				\n				\n				\n				\n				\n				Evening\n\n1:10 zazen 2:00 kinhin 2:10 zazen 3:00 kinhin 3:10 zazen 4:00 kinhin 4:10 zazen 5:00 kinhin 5:10 zazen 6:00 lunch/cleanup/break 7:10 zazen 8:00 kinhin 8:10 zazen 9:00 end of day
URL:https://gyobutsuji.org/event/sesshin-25/
END:VEVENT
BEGIN:VEVENT
DTSTART;VALUE=DATE:20220929
DTEND;VALUE=DATE:20221004
DTSTAMP:20260424T103800
CREATED:20220905T185239Z
LAST-MODIFIED:20220905T185242Z
UID:1427-1664409600-1664841599@gyobutsuji.org
SUMMARY:Sesshin
DESCRIPTION:Daily Sesshin Schedule\n			\n			\n				\n				\n				\n				\n			\n				\n				\n				\n				\n				\n				\n				\n				\n				\n				\n				Morning\n\n3:40AM Wakeup 4:10 zazen 5:00 kinhin 5:10 zazen 6:00 breakfast/cleanup/break 7:10 zazen 8:00 kinhin 8:10 zazen 9:00 kinhin 9:10 zazen 10:00 kinhin 10:10 zazen 11:00 kinhin 11:10 zazen 12:00 lunch/cleanup/break \n			\n			\n				\n				\n				\n				\n				\n				\n				\n				\n				\n				Evening\n\n1:10 zazen 2:00 kinhin 2:10 zazen 3:00 kinhin 3:10 zazen 4:00 kinhin 4:10 zazen 5:00 kinhin 5:10 zazen 6:00 lunch/cleanup/break 7:10 zazen 8:00 kinhin 8:10 zazen 9:00 end of day
URL:https://gyobutsuji.org/event/sesshin-22/
END:VEVENT
BEGIN:VEVENT
DTSTART;VALUE=DATE:20220831
DTEND;VALUE=DATE:20220906
DTSTAMP:20260424T103800
CREATED:20220617T144515Z
LAST-MODIFIED:20220617T144519Z
UID:1378-1661904000-1662422399@gyobutsuji.org
SUMMARY:Sesshin
DESCRIPTION:Daily Sesshin Schedule\n			\n			\n				\n				\n				\n				\n			\n				\n				\n				\n				\n				\n				\n				\n				\n				\n				\n				Morning\n\n3:40AM Wakeup 4:10 zazen 5:00 kinhin 5:10 zazen 6:00 breakfast/cleanup/break 7:10 zazen 8:00 kinhin 8:10 zazen 9:00 kinhin 9:10 zazen 10:00 kinhin 10:10 zazen 11:00 kinhin 11:10 zazen 12:00 lunch/cleanup/break \n			\n			\n				\n				\n				\n				\n				\n				\n				\n				\n				\n				Evening\n\n1:10 zazen 2:00 kinhin 2:10 zazen 3:00 kinhin 3:10 zazen 4:00 kinhin 4:10 zazen 5:00 kinhin 5:10 zazen 6:00 lunch/cleanup/break 7:10 zazen 8:00 kinhin 8:10 zazen 9:00 end of day
URL:https://gyobutsuji.org/event/sesshin-21/
END:VEVENT
BEGIN:VEVENT
DTSTART;VALUE=DATE:20220714
DTEND;VALUE=DATE:20220719
DTSTAMP:20260424T103800
CREATED:20220511T154211Z
LAST-MODIFIED:20220511T154215Z
UID:1353-1657756800-1658188799@gyobutsuji.org
SUMMARY:Sesshin
DESCRIPTION:Daily Sesshin Schedule\n			\n			\n				\n				\n				\n				\n			\n				\n				\n				\n				\n				\n				\n				\n				\n				\n				\n				Morning\n\n3:40AM Wakeup 4:10 zazen 5:00 kinhin 5:10 zazen 6:00 breakfast/cleanup/break 7:10 zazen 8:00 kinhin 8:10 zazen 9:00 kinhin 9:10 zazen 10:00 kinhin 10:10 zazen 11:00 kinhin 11:10 zazen 12:00 lunch/cleanup/break \n			\n			\n				\n				\n				\n				\n				\n				\n				\n				\n				\n				Evening\n\n1:10 zazen 2:00 kinhin 2:10 zazen 3:00 kinhin 3:10 zazen 4:00 kinhin 4:10 zazen 5:00 kinhin 5:10 zazen 6:00 lunch/cleanup/break 7:10 zazen 8:00 kinhin 8:10 zazen 9:00 end of day
URL:https://gyobutsuji.org/event/sesshin-20/
END:VEVENT
BEGIN:VEVENT
DTSTART;VALUE=DATE:20220609
DTEND;VALUE=DATE:20220614
DTSTAMP:20260424T103800
CREATED:20220511T153919Z
LAST-MODIFIED:20220511T153924Z
UID:1348-1654732800-1655164799@gyobutsuji.org
SUMMARY:Sesshin
DESCRIPTION:Daily Sesshin Schedule\n			\n			\n				\n				\n				\n				\n			\n				\n				\n				\n				\n				\n				\n				\n				\n				\n				\n				Morning\n\n3:40AM Wakeup 4:10 zazen 5:00 kinhin 5:10 zazen 6:00 breakfast/cleanup/break 7:10 zazen 8:00 kinhin 8:10 zazen 9:00 kinhin 9:10 zazen 10:00 kinhin 10:10 zazen 11:00 kinhin 11:10 zazen 12:00 lunch/cleanup/break \n			\n			\n				\n				\n				\n				\n				\n				\n				\n				\n				\n				Evening\n\n1:10 zazen 2:00 kinhin 2:10 zazen 3:00 kinhin 3:10 zazen 4:00 kinhin 4:10 zazen 5:00 kinhin 5:10 zazen 6:00 lunch/cleanup/break 7:10 zazen 8:00 kinhin 8:10 zazen 9:00 end of day
URL:https://gyobutsuji.org/event/sesshin-19/
END:VEVENT
BEGIN:VEVENT
DTSTART;TZID=America/Chicago:20220430T041000
DTEND;TZID=America/Chicago:20220430T120000
DTSTAMP:20260424T103800
CREATED:20220221T162557Z
LAST-MODIFIED:20220221T162603Z
UID:1328-1651291800-1651320000@gyobutsuji.org
SUMMARY:Half-day Sesshin
DESCRIPTION:Sesshin Schedule\n			\n			\n				\n				\n				\n				\n			\n				\n				\n				\n				\n				\n				\n			\n				\n				\n				\n				\n				\n				\n				\n				\n				\n				4:10am zazen5:00 kinhin5:10 zazen6:00 breakfast/break7:10 zazen8:00 kinhin8:10 zazen9:00 kinhin9:10 zazen10:00 kinhin10:10 zazen11:00 kinhin11:10 zazen12:00    end
URL:https://gyobutsuji.org/event/half-day-sesshin-9/
LOCATION:Via Zoom
END:VEVENT
BEGIN:VEVENT
DTSTART;VALUE=DATE:20220428
DTEND;VALUE=DATE:20220503
DTSTAMP:20260424T103800
CREATED:20220221T161902Z
LAST-MODIFIED:20220221T161908Z
UID:1323-1651104000-1651535999@gyobutsuji.org
SUMMARY:Sesshin
DESCRIPTION:Daily Sesshin Schedule\n			\n			\n				\n				\n				\n				\n			\n				\n				\n				\n				\n				\n				\n				\n				\n				\n				\n				Morning\n\n3:40AM Wakeup 4:10 zazen 5:00 kinhin 5:10 zazen 6:00 breakfast/cleanup/break 7:10 zazen 8:00 kinhin 8:10 zazen 9:00 kinhin 9:10 zazen 10:00 kinhin 10:10 zazen 11:00 kinhin 11:10 zazen 12:00 lunch/cleanup/break \n			\n			\n				\n				\n				\n				\n				\n				\n				\n				\n				\n				Evening\n\n1:10 zazen 2:00 kinhin 2:10 zazen 3:00 kinhin 3:10 zazen 4:00 kinhin 4:10 zazen 5:00 kinhin 5:10 zazen 6:00 lunch/cleanup/break 7:10 zazen 8:00 kinhin 8:10 zazen 9:00 end of day
URL:https://gyobutsuji.org/event/sesshin-18/
END:VEVENT
BEGIN:VEVENT
DTSTART;TZID=America/Chicago:20220402T041000
DTEND;TZID=America/Chicago:20220402T120000
DTSTAMP:20260424T103800
CREATED:20220221T161524Z
LAST-MODIFIED:20220221T161530Z
UID:1318-1648872600-1648900800@gyobutsuji.org
SUMMARY:Half-day Sesshin
DESCRIPTION:Sesshin Schedule\n			\n			\n				\n				\n				\n				\n			\n				\n				\n				\n				\n				\n				\n			\n				\n				\n				\n				\n				\n				\n				\n				\n				\n				4:10am zazen5:00 kinhin5:10 zazen6:00 breakfast/break7:10 zazen8:00 kinhin8:10 zazen9:00 kinhin9:10 zazen10:00 kinhin10:10 zazen11:00 kinhin11:10 zazen12:00    end
URL:https://gyobutsuji.org/event/half-day-sesshin-8/
LOCATION:Via Zoom
END:VEVENT
BEGIN:VEVENT
DTSTART;VALUE=DATE:20220330
DTEND;VALUE=DATE:20220404
DTSTAMP:20260424T103800
CREATED:20220221T161146Z
LAST-MODIFIED:20220221T161152Z
UID:1313-1648598400-1649030399@gyobutsuji.org
SUMMARY:Sesshin
DESCRIPTION:Daily Sesshin Schedule\n			\n			\n				\n				\n				\n				\n			\n				\n				\n				\n				\n				\n				\n				\n				\n				\n				\n				Morning\n\n3:40AM Wakeup 4:10 zazen 5:00 kinhin 5:10 zazen 6:00 breakfast/cleanup/break 7:10 zazen 8:00 kinhin 8:10 zazen 9:00 kinhin 9:10 zazen 10:00 kinhin 10:10 zazen 11:00 kinhin 11:10 zazen 12:00 lunch/cleanup/break \n			\n			\n				\n				\n				\n				\n				\n				\n				\n				\n				\n				Evening\n\n1:10 zazen 2:00 kinhin 2:10 zazen 3:00 kinhin 3:10 zazen 4:00 kinhin 4:10 zazen 5:00 kinhin 5:10 zazen 6:00 lunch/cleanup/break 7:10 zazen 8:00 kinhin 8:10 zazen 9:00 end of day
URL:https://gyobutsuji.org/event/sesshin-17/
END:VEVENT
BEGIN:VEVENT
DTSTART;TZID=America/Chicago:20220305T041000
DTEND;TZID=America/Chicago:20220305T120000
DTSTAMP:20260424T103800
CREATED:20220221T153100Z
LAST-MODIFIED:20220221T153106Z
UID:1306-1646453400-1646481600@gyobutsuji.org
SUMMARY:Half-day Sesshin
DESCRIPTION:Sesshin Schedule\n			\n			\n				\n				\n				\n				\n			\n				\n				\n				\n				\n				\n				\n			\n				\n				\n				\n				\n				\n				\n				\n				\n				\n				4:10am zazen5:00 kinhin5:10 zazen6:00 breakfast/break7:10 zazen8:00 kinhin8:10 zazen9:00 kinhin9:10 zazen10:00 kinhin10:10 zazen11:00 kinhin11:10 zazen12:00    end
URL:https://gyobutsuji.org/event/half-day-sesshin-7/
LOCATION:Via Zoom
END:VEVENT
END:VCALENDAR