BEGIN:VCALENDAR
VERSION:2.0
PRODID:-//Gyobutsuji - ECPv6.15.20//NONSGML v1.0//EN
CALSCALE:GREGORIAN
METHOD:PUBLISH
X-WR-CALNAME:Gyobutsuji
X-ORIGINAL-URL:https://gyobutsuji.org
X-WR-CALDESC:Events for Gyobutsuji
REFRESH-INTERVAL;VALUE=DURATION:PT1H
X-Robots-Tag:noindex
X-PUBLISHED-TTL:PT1H
BEGIN:VTIMEZONE
TZID:America/Chicago
BEGIN:DAYLIGHT
TZOFFSETFROM:-0600
TZOFFSETTO:-0500
TZNAME:CDT
DTSTART:20250309T080000
END:DAYLIGHT
BEGIN:STANDARD
TZOFFSETFROM:-0500
TZOFFSETTO:-0600
TZNAME:CST
DTSTART:20251102T070000
END:STANDARD
BEGIN:DAYLIGHT
TZOFFSETFROM:-0600
TZOFFSETTO:-0500
TZNAME:CDT
DTSTART:20260308T080000
END:DAYLIGHT
BEGIN:STANDARD
TZOFFSETFROM:-0500
TZOFFSETTO:-0600
TZNAME:CST
DTSTART:20261101T070000
END:STANDARD
BEGIN:DAYLIGHT
TZOFFSETFROM:-0600
TZOFFSETTO:-0500
TZNAME:CDT
DTSTART:20270314T080000
END:DAYLIGHT
BEGIN:STANDARD
TZOFFSETFROM:-0500
TZOFFSETTO:-0600
TZNAME:CST
DTSTART:20271107T070000
END:STANDARD
END:VTIMEZONE
BEGIN:VEVENT
DTSTART;VALUE=DATE:20260430
DTEND;VALUE=DATE:20260505
DTSTAMP:20260423T055807
CREATED:20251231T194203Z
LAST-MODIFIED:20251231T205050Z
UID:1607-1777507200-1777939199@gyobutsuji.org
SUMMARY:May Sesshin
DESCRIPTION:Daily Sesshin Schedule\n			\n			\n				\n				\n				\n				\n			\n				\n				\n				\n				\n				\n				\n				\n				\n				\n				\n				Morning\n\n3:40AM Wakeup 4:10 zazen 5:00 kinhin 5:10 zazen 6:00 breakfast/cleanup/break 7:10 zazen 8:00 kinhin 8:10 zazen 9:00 kinhin 9:10 zazen 10:00 kinhin 10:10 zazen 11:00 kinhin 11:10 zazen 12:00 lunch/cleanup/break \n			\n			\n				\n				\n				\n				\n				\n				\n				\n				\n				\n				Evening\n\n1:10 zazen 2:00 kinhin 2:10 zazen 3:00 kinhin 3:10 zazen 4:00 kinhin 4:10 zazen 5:00 kinhin 5:10 zazen 6:00 lunch/cleanup/break 7:10 zazen 8:00 kinhin 8:10 zazen 9:00 end of day
URL:https://gyobutsuji.org/event/sesshin-42/
END:VEVENT
BEGIN:VEVENT
DTSTART;VALUE=DATE:20260604
DTEND;VALUE=DATE:20260609
DTSTAMP:20260423T055807
CREATED:20251231T194529Z
LAST-MODIFIED:20251231T205015Z
UID:1610-1780531200-1780963199@gyobutsuji.org
SUMMARY:June Sesshin
DESCRIPTION:Daily Sesshin Schedule\n			\n			\n				\n				\n				\n				\n			\n				\n				\n				\n				\n				\n				\n				\n				\n				\n				\n				Morning\n\n3:40AM Wakeup 4:10 zazen 5:00 kinhin 5:10 zazen 6:00 breakfast/cleanup/break 7:10 zazen 8:00 kinhin 8:10 zazen 9:00 kinhin 9:10 zazen 10:00 kinhin 10:10 zazen 11:00 kinhin 11:10 zazen 12:00 lunch/cleanup/break \n			\n			\n				\n				\n				\n				\n				\n				\n				\n				\n				\n				Evening\n\n1:10 zazen 2:00 kinhin 2:10 zazen 3:00 kinhin 3:10 zazen 4:00 kinhin 4:10 zazen 5:00 kinhin 5:10 zazen 6:00 lunch/cleanup/break 7:10 zazen 8:00 kinhin 8:10 zazen 9:00 end of day
URL:https://gyobutsuji.org/event/sesshin-43/
END:VEVENT
BEGIN:VEVENT
DTSTART;VALUE=DATE:20260709
DTEND;VALUE=DATE:20260714
DTSTAMP:20260423T055807
CREATED:20251231T194659Z
LAST-MODIFIED:20251231T204812Z
UID:1613-1783555200-1783987199@gyobutsuji.org
SUMMARY:July Sesshin
DESCRIPTION:Daily Sesshin Schedule\n			\n			\n				\n				\n				\n				\n			\n				\n				\n				\n				\n				\n				\n				\n				\n				\n				\n				Morning\n\n3:40AM Wakeup 4:10 zazen 5:00 kinhin 5:10 zazen 6:00 breakfast/cleanup/break 7:10 zazen 8:00 kinhin 8:10 zazen 9:00 kinhin 9:10 zazen 10:00 kinhin 10:10 zazen 11:00 kinhin 11:10 zazen 12:00 lunch/cleanup/break \n			\n			\n				\n				\n				\n				\n				\n				\n				\n				\n				\n				Evening\n\n1:10 zazen 2:00 kinhin 2:10 zazen 3:00 kinhin 3:10 zazen 4:00 kinhin 4:10 zazen 5:00 kinhin 5:10 zazen 6:00 lunch/cleanup/break 7:10 zazen 8:00 kinhin 8:10 zazen 9:00 end of day
URL:https://gyobutsuji.org/event/sesshin-44/
END:VEVENT
BEGIN:VEVENT
DTSTART;VALUE=DATE:20260903
DTEND;VALUE=DATE:20260908
DTSTAMP:20260423T055807
CREATED:20251231T194849Z
LAST-MODIFIED:20251231T204748Z
UID:1616-1788393600-1788825599@gyobutsuji.org
SUMMARY:September Sesshin
DESCRIPTION:Daily Sesshin Schedule\n			\n			\n				\n				\n				\n				\n			\n				\n				\n				\n				\n				\n				\n				\n				\n				\n				\n				Morning\n\n3:40AM Wakeup 4:10 zazen 5:00 kinhin 5:10 zazen 6:00 breakfast/cleanup/break 7:10 zazen 8:00 kinhin 8:10 zazen 9:00 kinhin 9:10 zazen 10:00 kinhin 10:10 zazen 11:00 kinhin 11:10 zazen 12:00 lunch/cleanup/break \n			\n			\n				\n				\n				\n				\n				\n				\n				\n				\n				\n				Evening\n\n1:10 zazen 2:00 kinhin 2:10 zazen 3:00 kinhin 3:10 zazen 4:00 kinhin 4:10 zazen 5:00 kinhin 5:10 zazen 6:00 lunch/cleanup/break 7:10 zazen 8:00 kinhin 8:10 zazen 9:00 end of day
URL:https://gyobutsuji.org/event/sesshin-45/
END:VEVENT
BEGIN:VEVENT
DTSTART;VALUE=DATE:20261001
DTEND;VALUE=DATE:20261006
DTSTAMP:20260423T055807
CREATED:20251231T195033Z
LAST-MODIFIED:20251231T204724Z
UID:1619-1790812800-1791244799@gyobutsuji.org
SUMMARY:October Sesshin
DESCRIPTION:Daily Sesshin Schedule\n			\n			\n				\n				\n				\n				\n			\n				\n				\n				\n				\n				\n				\n				\n				\n				\n				\n				Morning\n\n3:40AM Wakeup 4:10 zazen 5:00 kinhin 5:10 zazen 6:00 breakfast/cleanup/break 7:10 zazen 8:00 kinhin 8:10 zazen 9:00 kinhin 9:10 zazen 10:00 kinhin 10:10 zazen 11:00 kinhin 11:10 zazen 12:00 lunch/cleanup/break \n			\n			\n				\n				\n				\n				\n				\n				\n				\n				\n				\n				Evening\n\n1:10 zazen 2:00 kinhin 2:10 zazen 3:00 kinhin 3:10 zazen 4:00 kinhin 4:10 zazen 5:00 kinhin 5:10 zazen 6:00 lunch/cleanup/break 7:10 zazen 8:00 kinhin 8:10 zazen 9:00 end of day
URL:https://gyobutsuji.org/event/sesshin-46/
END:VEVENT
BEGIN:VEVENT
DTSTART;VALUE=DATE:20261105
DTEND;VALUE=DATE:20261110
DTSTAMP:20260423T055807
CREATED:20251231T195235Z
LAST-MODIFIED:20251231T204701Z
UID:1623-1793836800-1794268799@gyobutsuji.org
SUMMARY:November Sesshin
DESCRIPTION:Daily Sesshin Schedule\n			\n			\n				\n				\n				\n				\n			\n				\n				\n				\n				\n				\n				\n				\n				\n				\n				\n				Morning\n\n3:40AM Wakeup 4:10 zazen 5:00 kinhin 5:10 zazen 6:00 breakfast/cleanup/break 7:10 zazen 8:00 kinhin 8:10 zazen 9:00 kinhin 9:10 zazen 10:00 kinhin 10:10 zazen 11:00 kinhin 11:10 zazen 12:00 lunch/cleanup/break \n			\n			\n				\n				\n				\n				\n				\n				\n				\n				\n				\n				Evening\n\n1:10 zazen 2:00 kinhin 2:10 zazen 3:00 kinhin 3:10 zazen 4:00 kinhin 4:10 zazen 5:00 kinhin 5:10 zazen 6:00 lunch/cleanup/break 7:10 zazen 8:00 kinhin 8:10 zazen 9:00 end of day
URL:https://gyobutsuji.org/event/sesshin-47/
END:VEVENT
BEGIN:VEVENT
DTSTART;VALUE=DATE:20261201
DTEND;VALUE=DATE:20261208
DTSTAMP:20260423T055807
CREATED:20201227T225411Z
LAST-MODIFIED:20251231T204456Z
UID:900-1796083200-1796687999@gyobutsuji.org
SUMMARY:Rohatsu Sesshin
DESCRIPTION:Daily Sesshin Schedule\n			\n			\n				\n				\n				\n				\n			\n				\n				\n				\n				\n				\n				\n				\n				\n				\n				\n				Morning\n\n3:40AM Wakeup 4:10 zazen 5:00 kinhin 5:10 zazen 6:00 breakfast/cleanup/break 7:10 zazen 8:00 kinhin 8:10 zazen 9:00 kinhin 9:10 zazen 10:00 kinhin 10:10 zazen 11:00 kinhin 11:10 zazen 12:00 lunch/cleanup/break \n\n\n\n\n			\n			\n				\n				\n				\n				\n				\n				\n				\n				\n				\n				Evening\n1:10 zazen 2:00 kinhin 2:10 zazen 3:00 kinhin 3:10 zazen 4:00 kinhin 4:10 zazen 5:00 kinhin 5:10 zazen 6:00 lunch/cleanup/break 7:10 zazen 8:00 kinhin 8:10 zazen 9:00 end of day \n			\n			\n				\n				\n				\n				\n				\n				\n				\n				\n				\n				Evening of December 7\n9:00 tea9:10 zazen10:00 kinhin10:10 zazen11:00 kinhin11:10 zazen12:00 end of day
URL:https://gyobutsuji.org/event/rohatsu-sesshin/
END:VEVENT
END:VCALENDAR